
BEGIN:VCALENDAR
VERSION:2.0
PRODID:-//wp-events-plugin.com//6.4.7.1//EN
TZID:Africa/Johannesburg
X-WR-TIMEZONE:Africa/Johannesburg
BEGIN:VEVENT
UID:60@rustenburg.biz
DTSTART;TZID=Africa/Johannesburg;VALUE=DATE:20181124
DTEND;TZID=Africa/Johannesburg;VALUE=DATE:20181125
DTSTAMP:20181113T103728Z
URL:https://www.rustenburg.biz/legacy-events/aasvoelkrans-holiday-resort-p
 redator-park/
SUMMARY:Aasvoëlkrans Holiday Resort & Predator Park
DESCRIPTION:\n\nJOIN US FOR A ROARRRRRING FUN DAY!!!!\n\nWHERE - Aasvoëlkr
 ans Holiday Resort\nWHEN - 24 November 2018\nTel nr - 014 577 2404 / 014 5
 77 2551\nCell - 071 689 4817 / 071 682 8897\nEmail - admin@aasvoelkransres
 ort.co.za\nEmail - info@aasvoelkransresort.co.za\nEmail - functions@aasv
 oelkransresort.co.za\nVist our Website\nJoin us on Facebook\n\n 	Stalls av
 ailable ( No food &amp\; drinks stalls ) Limited space available\, booking
 s essential\n 	Stalls only R100 ( 2 people per stall don't pay visitor's f
 ee )\n 	Booked in guests don't pay to view the predators\n\n\n\nSPECIAL PR
 ICES:\n\n 	Only pay R80 day visit fee and view the animals for free\n 	Add
 itional predator fees will be charged for separately incl feeding\, cub se
 paration &amp\; bush drives\n 	Bush Drives R40\n 	Cub interaction R40 ( 10
  minutes ) No under 12's\n 	Teenage predator interaction R60 ( 10 minutes 
 ) No under 16's\n 	First come\, First serve\n 	A group of 8 per feeding\, 
 2 feedings per day\n\n\n\n\n\n&nbsp\;
CATEGORIES:Aasvoëlkrans Holiday Resort
END:VEVENT
BEGIN:VTIMEZONE
TZID:Africa/Johannesburg
X-LIC-LOCATION:Africa/Johannesburg
BEGIN:STANDARD
DTSTART:20171124T000000
TZOFFSETFROM:+0200
TZOFFSETTO:+0200
TZNAME:SAST
END:STANDARD
END:VTIMEZONE
END:VCALENDAR