
BEGIN:VCALENDAR
VERSION:2.0
PRODID:-//wp-events-plugin.com//6.4.7.1//EN
TZID:Africa/Johannesburg
X-WR-TIMEZONE:Africa/Johannesburg
BEGIN:VEVENT
UID:55@rustenburg.biz
DTSTART;TZID=Africa/Johannesburg;VALUE=DATE:20181108
DTEND;TZID=Africa/Johannesburg;VALUE=DATE:20181112
DTSTAMP:20180903T133949Z
URL:https://www.rustenburg.biz/legacy-events/accommodation-for-nedbank-gol
 f-challenge-guests/
SUMMARY:Accommodation for Nedbank Golf Challenge Guests
DESCRIPTION:\n\nSTAY @ BOSCHDAL GUESTHOUSE \n\nWe offer great accommodatio
 n while the Nedbank Golf Challenge is on\n\nWHERE: 42 Witstinkhout Ave\, P
 roteapark\, Rustenburg\nWHEN: 8 - 11 November 2018\n\nFor more information
  call 014 533 3783 / guest1@boschdal.co.za\n\nWe also offer our guests:\n\
 n 	Free WiFi &amp\; parking\n 	Buffet Breakfast\n 	We are a pet-friendly h
 otel\n 	We do car hire &amp\; shuttle services ( at extra costs )\n 	Book 
 online through Nightbridge on our Website \n\n&nbsp\;
CATEGORIES:Accommodation,event
END:VEVENT
BEGIN:VTIMEZONE
TZID:Africa/Johannesburg
X-LIC-LOCATION:Africa/Johannesburg
BEGIN:STANDARD
DTSTART:20171108T000000
TZOFFSETFROM:+0200
TZOFFSETTO:+0200
TZNAME:SAST
END:STANDARD
END:VTIMEZONE
END:VCALENDAR