
BEGIN:VCALENDAR
VERSION:2.0
PRODID:-//wp-events-plugin.com//6.4.7.1//EN
TZID:Africa/Johannesburg
X-WR-TIMEZONE:Africa/Johannesburg
BEGIN:VEVENT
UID:73@rustenburg.biz
DTSTART;TZID=Africa/Johannesburg:20190830T070000
DTEND;TZID=Africa/Johannesburg:20190901T230000
DTSTAMP:20190724T135419Z
URL:https://www.rustenburg.biz/legacy-events/arbei-fees/
SUMMARY:Aarbeifees 2019
DESCRIPTION:&nbsp\;\n\n\n\nAARBEI FEES 2019\n\nOns bied hope pret en vermaa
 k vir oud en jonk \n\nKontak - Tinus van Aard: 012 252 1160 / Magda: 083 
 268 9548\nE-pos - ngbrits@mweb.co.za\n\nVrydag\, 30 Augustus \n\n 	13h00 
 - Opening &amp\; Aarbei Verkope\n 	18h00 tot 18h30 - Lollos klank toets\n 
 	18h30 tot 19h15 - Lollos\n 	19h30 tot 20h30 - Jay\n\nSaterdag\, 31 August
 us\n\n 	07:30 tot 8:30 - Pretloop\n 	09:00 tot 11:00 - Mej Aarbeifees\n 	1
 1: tot 11:40 - Marli\n 	11:50 tot 12:30 - Take 2 Duo\n 	12:40 tot 13:20 - 
 Abreu\n 	13:30 tot 14:15 - Carma\n 	14:30 tot 15:10 - Charalee\n 	15:20 to
 t 16:00 - Leonard Lang\n 	16:15 tot 16:50 - Mike\n 	17:00 tot 17:45 - Juan
  Ru Jay\n 	18h00 - Brendan Peyper\n 	19hoo - Adam\n 	20hoo - Juanita du Pl
 essis\n\nSondag\, 1 September\n\n 	9:00 - Erediens deur Ds Frans du Plessi
 s\n\n\n\n&nbsp\;\n\n&nbsp\;\n\n&nbsp\;
CATEGORIES:Aarbeifees 2019,event
END:VEVENT
BEGIN:VTIMEZONE
TZID:Africa/Johannesburg
X-LIC-LOCATION:Africa/Johannesburg
BEGIN:STANDARD
DTSTART:20180830T070000
TZOFFSETFROM:+0200
TZOFFSETTO:+0200
TZNAME:SAST
END:STANDARD
END:VTIMEZONE
END:VCALENDAR