
BEGIN:VCALENDAR
VERSION:2.0
PRODID:-//wp-events-plugin.com//6.4.7.1//EN
TZID:Africa/Johannesburg
X-WR-TIMEZONE:Africa/Johannesburg
BEGIN:VEVENT
UID:61@rustenburg.biz
DTSTART;TZID=Africa/Johannesburg;VALUE=DATE:20181201
DTEND;TZID=Africa/Johannesburg;VALUE=DATE:20181202
DTSTAMP:20181121T121720Z
URL:https://www.rustenburg.biz/legacy-events/buffalo-festival/
SUMMARY:Spoegwolf @ the #1 Buffalo Festival
DESCRIPTION:\n\nSPOEGWOLF AT THE #1 BUFFALO FESTIVAL \n\nWHEN - 1 December
  2018\nWHERE - Buffalo Grill\, R104 Buffelspoort\, Rustenburg\, Opposite A
 TKV\nTIME - 09hoo till late\nENTRANCE FEE  - R150 per person ( Tickets av
 ailable from Buffalo Grill &amp\; Brilliant Accounting )\n\n\n\nContact Nr
  - 076 756 9120\nEmail - marketing@buffalogrill.co.za\nVisit our Website\n
 Join us on Facebook\n\n\n\nLots of live entertainment awaits you\n\n 	Our 
 local artist - Spegwolf ( Freckled Elvis &amp\; Harry Wilken )\n 	Food sta
 lls / Beer Tent\n 	Amazing Giveaways\n\nMr &amp\; Miss Buffalo:\n\n 	Entri
 es  - R200 / Spectators - R150\n 	Entry &amp\; Spectator fees includes fu
 ll access to the day's activities &amp\; concert tickets to Spoegwolf\n 	F
 EMALE CATEGORIES:  6 - 8 years / 9 - 12 years / 13 - 17 years / 18 - 25 y
 ears / Mrs: 26 + years\n 	MALE CATEGORIES: 6 - 12 years / 13 - 16 years / 
 17 - 25 years\n\n\n\n&nbsp\;\n\n&nbsp\;
CATEGORIES:Buffalo Festival,event,Festivals
END:VEVENT
BEGIN:VTIMEZONE
TZID:Africa/Johannesburg
X-LIC-LOCATION:Africa/Johannesburg
BEGIN:STANDARD
DTSTART:20171201T000000
TZOFFSETFROM:+0200
TZOFFSETTO:+0200
TZNAME:SAST
END:STANDARD
END:VTIMEZONE
END:VCALENDAR