
BEGIN:VCALENDAR
VERSION:2.0
PRODID:-//wp-events-plugin.com//6.4.7.1//EN
TZID:Africa/Johannesburg
X-WR-TIMEZONE:Africa/Johannesburg
BEGIN:VEVENT
UID:67@rustenburg.biz
DTSTART;TZID=Africa/Johannesburg:20190501T080000
DTEND;TZID=Africa/Johannesburg:20190501T220000
DTSTAMP:20190228T093446Z
URL:https://www.rustenburg.biz/legacy-events/buffelspoort-hartklop-plaasfe
 es/
SUMMARY:Buffelspoort Hartklop Plaasfees
DESCRIPTION:\n\nBUFFELSPOORT HARTKLOP PLAASFEES\n\nWANNEER - 1 Mei 2019\n\n
 WAAR - Agapé Buffelspoort Kampus - GPS: S25°45.298 O 27°24.901\n\nTYD -
  Hekke open om 08h00\n\nBring die hele familie vir 'n dag vol opwinding en
  vermaak:\n\n 	Bergfiets wedren / Trail Run\n 	Verskeie Uitstallings\n 	Bu
 lletjie Rugby / Volleyball\n 	Vlooimark / Pretpark\n 	Stalletings / Food C
 ourt\n 	Skyfskiet en nog vele meer\n\n\n\nKontak Annette vir meer besonder
 hede - 083 627 2511\nLoer gerus op ons Webwerf\n\nLees meer op die Nuusbri
 ef  \nRead more on the Newsletter\n\n&nbsp\;\n\n&nbsp\;
CATEGORIES:event
END:VEVENT
BEGIN:VTIMEZONE
TZID:Africa/Johannesburg
X-LIC-LOCATION:Africa/Johannesburg
BEGIN:STANDARD
DTSTART:20180501T080000
TZOFFSETFROM:+0200
TZOFFSETTO:+0200
TZNAME:SAST
END:STANDARD
END:VTIMEZONE
END:VCALENDAR