
BEGIN:VCALENDAR
VERSION:2.0
PRODID:-//wp-events-plugin.com//6.4.7.1//EN
TZID:Africa/Johannesburg
X-WR-TIMEZONE:Africa/Johannesburg
BEGIN:VEVENT
UID:34@rustenburg.biz
DTSTART;TZID=Africa/Johannesburg:20180525T070000
DTEND;TZID=Africa/Johannesburg:20180602T130000
DTSTAMP:20180510T100259Z
URL:https://www.rustenburg.biz/legacy-events/camp-kaleidoscopes-day-of-fun
 /
SUMMARY:Camp Kaleidoscope's Day Of Fun
DESCRIPTION:\n\nCamp Kaleisoscope presents......DAY OF FUN!!!!\n\nWHEN - 2 
 June 2018\nWHERE - Rustenburg Primary School\nTIME - 07h00 - 13h00\n\n\n\n
 Visit our Website for more information\nSend your completed registration f
 orm/s to - campk007@gmail.com\n\n\n\n 	Camp Kaleidoscope believes in trans
 formation through inclusion. The aim is to unite disabled and able-bodied 
 people in a fun and empowering context\, where participants may be transfo
 rmed\, motivated and inspired.\n 	The day event is open to people from 10 
 years and older. There is a limit to spaces so book soon to avoid disappoi
 ntment.\n\nActivities includes:\n\n 	Arts &amp\; Crafts\n 	Laughter Therap
 y\n 	Horse Riding and lots more\n\nWE ARE LOOKING FORWARD SEEING YOU THERE
 !!! \n\n\n\n&nbsp\;\n\n&nbsp\;
CATEGORIES:event
END:VEVENT
BEGIN:VTIMEZONE
TZID:Africa/Johannesburg
X-LIC-LOCATION:Africa/Johannesburg
BEGIN:STANDARD
DTSTART:20170525T070000
TZOFFSETFROM:+0200
TZOFFSETTO:+0200
TZNAME:SAST
END:STANDARD
END:VTIMEZONE
END:VCALENDAR