
BEGIN:VCALENDAR
VERSION:2.0
PRODID:-//wp-events-plugin.com//6.4.7.1//EN
TZID:Africa/Johannesburg
X-WR-TIMEZONE:Africa/Johannesburg
BEGIN:VEVENT
UID:56@rustenburg.biz
DTSTART;TZID=Africa/Johannesburg:20180912T000000
DTEND;TZID=Africa/Johannesburg:20180930T000000
DTSTAMP:20180912T143401Z
URL:https://www.rustenburg.biz/legacy-events/care-2b-kind/
SUMMARY:Care 2b Kind Competition
DESCRIPTION:\n\nCARE 2B KIND IS HELPING FAMILIES THAT HAVE FALLEN ON HARD T
 IMES....\n\nBuy a ticket for ONLY R20 to help those in need\n\nWIN! WIN! W
 IN!\n\n 	1st Prize - 12 v BMW x6 Ride on Car\n 	2nd Prize - Techno Hamper\
 n\nFor more information or to buy your tickets call Riana @ 082 061 8458 
 \nEmail address - care2bkind.npo@gmail.com\n\nBanking details:\n\n\n\n\n\
 n&nbsp\;
CATEGORIES:Charity,Competition,event
END:VEVENT
BEGIN:VTIMEZONE
TZID:Africa/Johannesburg
X-LIC-LOCATION:Africa/Johannesburg
BEGIN:STANDARD
DTSTART:20170912T000000
TZOFFSETFROM:+0200
TZOFFSETTO:+0200
TZNAME:SAST
END:STANDARD
END:VTIMEZONE
END:VCALENDAR