
BEGIN:VCALENDAR
VERSION:2.0
PRODID:-//wp-events-plugin.com//6.4.7.1//EN
TZID:Africa/Johannesburg
X-WR-TIMEZONE:Africa/Johannesburg
BEGIN:VEVENT
UID:59@rustenburg.biz
DTSTART;TZID=Africa/Johannesburg;VALUE=DATE:20181103
DTEND;TZID=Africa/Johannesburg;VALUE=DATE:20181104
DTSTAMP:20181025T075848Z
URL:https://www.rustenburg.biz/legacy-events/country-dag-ten-bate-van-xand
 er/
SUMMARY:Country Dag Ten Bate Van Xander
DESCRIPTION:\n\nCOUNTRY DAG TEN BATE VAN XANDER \n\n 	WAAR: Oppi Plaas Pub
  &amp\; Grill\n 	WANNEER : 3 November 2018\n 	TYD : 10hoo tot LAAT\n 	INGA
 NGS FOOIE: R30 p/p en kinders onder 12 GRATIS\n 	Kontak Annetjie - 078 582
  7390 vir meer inligting\n\nHope vermaak vir die hele gesin\, moenie dit m
 isloop nie!\n\n 	Stalletjies en springkasteel\n 	Kontant Kroeg - GEEN EIE 
 DRANK\n 	Big screen rugby - RSA vs Engeland 17h00\n\nSANGERS:\n\n 	Riaan R
 ust - 10h00\n 	Gerq - 11h00\n 	Mari Minaar - 12 uur\n 	Divann - 13h00\n 	J
 unior John Jackson - 14h00\n 	Pierre - 15h00\n 	Angelo - 16h00\n 	Billy Je
 an - 18h00\n 	Jody Wayne - 19h00\n\nDIE PLEK WAAR VREEMDELINGE VRIENDE WOR
 D!!!\n\n&nbsp\;\n\n&nbsp\;
CATEGORIES:Charity,event
END:VEVENT
BEGIN:VTIMEZONE
TZID:Africa/Johannesburg
X-LIC-LOCATION:Africa/Johannesburg
BEGIN:STANDARD
DTSTART:20171103T000000
TZOFFSETFROM:+0200
TZOFFSETTO:+0200
TZNAME:SAST
END:STANDARD
END:VTIMEZONE
END:VCALENDAR