
BEGIN:VCALENDAR
VERSION:2.0
PRODID:-//wp-events-plugin.com//6.4.7.1//EN
TZID:Africa/Johannesburg
X-WR-TIMEZONE:Africa/Johannesburg
BEGIN:VEVENT
UID:70@rustenburg.biz
DTSTART;TZID=Africa/Johannesburg:20190330T100000
DTEND;TZID=Africa/Johannesburg:20190330T180000
DTSTAMP:20190311T142839Z
URL:https://www.rustenburg.biz/legacy-events/family-fun-day-rusties-lodge/
SUMMARY:Family Fun Day @ Rusties Lodge
DESCRIPTION:\n\nFAMILY FUN DAY @ RUSTIES LODGE \n\nWHEN - 30 March 2019\nW
 HERE - Rusties Lodge\, Donderhoek Rd\, Rustenburg\nTIME - 10h00 - 18h00\nE
 NTRANCE  FEE - R40 per person / Children under 5 years - free\nVisit our 
 Website \nJoin us on Facebook\n\nEmail - rustieslodge@vodamail.co.za\n\nB
 ring the whole family to have lots of fun:\n\n 	Swimming Pool\n 	Jumping C
 astles\n 	Braai stands available\n 	Play Park\n 	Bring own food &amp\; coo
 lers\n\n\n\n&nbsp\;
CATEGORIES:event
END:VEVENT
BEGIN:VTIMEZONE
TZID:Africa/Johannesburg
X-LIC-LOCATION:Africa/Johannesburg
BEGIN:STANDARD
DTSTART:20180330T100000
TZOFFSETFROM:+0200
TZOFFSETTO:+0200
TZNAME:SAST
END:STANDARD
END:VTIMEZONE
END:VCALENDAR