
BEGIN:VCALENDAR
VERSION:2.0
PRODID:-//wp-events-plugin.com//6.4.7.1//EN
TZID:Africa/Johannesburg
X-WR-TIMEZONE:Africa/Johannesburg
BEGIN:VEVENT
UID:71@rustenburg.biz
DTSTART;TZID=Africa/Johannesburg:20190803T153000
DTEND;TZID=Africa/Johannesburg:20190803T233000
DTSTAMP:20190322T133913Z
URL:https://www.rustenburg.biz/legacy-events/fashion-extravaganza/
SUMMARY:Fashion Extravaganza
DESCRIPTION:\n\n\n\nFASHION EXTRAVAGANZA\n\nWHEN - 3 August 2019\nWHERE - H
 edgehog's Nest\, Rustenburg\nTIME - 15h30 for 16h00\n\nIt is that time aga
 in\, the highlight of Rustenburg’s calendar.\nPeter Bondesio and Heidi
  Hollywood joins forces yet again to bring you a bigger\, better and even
  more spectacular fashion extravaganza!\n\nHeidi Peter Couture present:
  I have a dream.\nAs per usual\, this will be a sensory explosion of fun
 \, creativity\, famous artists and of course\, glamorous models with the 
 most amazing and colorful creations.\nThe beneficiary of this fashion show
  is PinkDrive\,- a non-profit organisation\, with the focus on the preven
 tion of Breast cancer\, Prostate and Testicular cancer with the message of
  “early detection can help prolong life’s“ PinkDrive conducts fre
 e mammograms to medical uninsured communities\nAll the money raised from t
 his event will be used to fund our big event for next year where PinkDriv
 e will also be the main beneficiary of the 2020 event.\n\nTicket prices ar
 e as follows:\n\n 	R500 per person: 1 x seat at your selected table with
  a hearty meal and wine\n 	R5 000 per table: 10 seats at your selected t
 able with a hearty meal and wine\n 	R50 000 per table: VIP table\, 10 seat
 s at the selected table with an exquisite meal\, wine\, whiskey or bra
 ndy or gin.\n\nShould you wish to join this initiative by means of a spons
 orship\, donation or with the arrangements et alia.\nKindly contact Louri
 sa Venter on 0828064352.\nWant to be a hostess?\nFollow these steps...\n\n
  	Get 9 friends together and ask them too deposit the money into your acco
 unt or they can give you cash if you prefer.\n 	Go to the following link\;
  http://bit.ly/HPC_2019 and book your preferred table\, remember the quic
 ker you do it the better your seats will be\, there is only a few seats cl
 ose to the ramp. (NB Please select whether Hedgehog's Nest should provide
  table decor\, or will you provide decor)\n 	On the day of the event you c
 an decorate your table like a dream\, the theme for the event “I have a
  dream”\n 	Hedgehogs Nest will supply the tablecloth and all the cutlery
 \, you will be responsible for the rest like serviettes\, overlays\, flowe
 rs and anything you can dream of.\n 	You can start decorating at 08:00 in 
 the morning but everybody must please be finished with their decorations b
 y 14:00 so the judges can have enough time to walk through the tables and 
 select the winners.\n\n\n\n&nbsp\;\n\n&nbsp\;\n\n&nbsp\;
CATEGORIES:event
END:VEVENT
BEGIN:VTIMEZONE
TZID:Africa/Johannesburg
X-LIC-LOCATION:Africa/Johannesburg
BEGIN:STANDARD
DTSTART:20180803T153000
TZOFFSETFROM:+0200
TZOFFSETTO:+0200
TZNAME:SAST
END:STANDARD
END:VTIMEZONE
END:VCALENDAR