
BEGIN:VCALENDAR
VERSION:2.0
PRODID:-//wp-events-plugin.com//6.4.7.1//EN
TZID:Africa/Johannesburg
X-WR-TIMEZONE:Africa/Johannesburg
BEGIN:VEVENT
UID:53@rustenburg.biz
DTSTART;TZID=Africa/Johannesburg:20180907T180000
DTEND;TZID=Africa/Johannesburg:20180907T233000
DTSTAMP:20180828T145250Z
URL:https://www.rustenburg.biz/legacy-events/francois-van-coke/
SUMMARY:Francois Van Coke
DESCRIPTION:\n\nFRANCOIS VAN COKE with Madison &amp\; Taking Autumn\n\nBOOK
 INGS ONLY - NO TICKET SALES AT THE DOOR\nWHERE - Libertas Wedding &amp\; F
 unction Venue\, Oorsaak Rd\, Modderfontein\, Rtb\nWHEN - 7 September 2018\
 nTIME - Gates opens @ 18h00\n\nPERFORMANCE TIME:\n\n 	18H00 - Madison\n 	1
 9h00 - Taking Autumn ( Acoustic )\n 	20h00 - Francois Van Coke\n\nTicket p
 rice - R180 p.p / R150 p.p ( Groups of 10 and more )\nBring own drinks\nFo
 od stalls available\nFor more info - Call: Miemie - 079 495 7043\n\n&nbsp\
 ;\n\n&nbsp\;
CATEGORIES:event
END:VEVENT
BEGIN:VTIMEZONE
TZID:Africa/Johannesburg
X-LIC-LOCATION:Africa/Johannesburg
BEGIN:STANDARD
DTSTART:20170907T180000
TZOFFSETFROM:+0200
TZOFFSETTO:+0200
TZNAME:SAST
END:STANDARD
END:VTIMEZONE
END:VCALENDAR