
BEGIN:VCALENDAR
VERSION:2.0
PRODID:-//wp-events-plugin.com//6.4.7.1//EN
TZID:Africa/Johannesburg
X-WR-TIMEZONE:Africa/Johannesburg
BEGIN:VEVENT
UID:64@rustenburg.biz
DTSTART;TZID=Africa/Johannesburg:20190301T100000
DTEND;TZID=Africa/Johannesburg:20190301T210000
DTSTAMP:20190125T102110Z
URL:https://www.rustenburg.biz/legacy-events/golfdag-fondsinsameling/
SUMMARY:Gholfdag Fondsinsameling
DESCRIPTION:\n\nGholfdag ten bate van die NHK\, gemeente Rustenburg-Kloof w
 ie se kerkgebou op Sondag 25 November 2018 afgebrand het.\n\nWAAR - Rusten
 burg Gholfbaan.\nWANNEER - 1 Maart 2019 om 10 vm. Knalskoot begin.\nKOSTES
  - R3 000.00 per 4bal\, karretjies en halfweg ingesluit.\nFORMAAT -  Bete
 rbal – Beste dryf.\n\n 	Borg van ‘n bof: R2 000.00\n 	Borg van ‘n se
 tperk: R1 000.00\n 	Donasies sal met groot dank aanvaar word\n\nBank beson
 derhede:\nNaam: NHK Rustenburg- Kloof\nBank: ABSA Rustenburg\nRekening No.
  1220 580 527\nTak kode: 632005\n\n 	Stuur asb bewys van betaling per e-po
 s na: ne.ye@telkomsa.net met jou naam of besigheids naam as verwysing.\n 	
 Besprekings kan by die volgende persone gedoen word:\n 	Ds. Nardus Enslin
  - 083 655 6653\n 	Christo Keulder - 076 284 3701\n 	Coenie Pretorius -
  082 800 9123.\n\nGoeie pryse en GROOT prys vir n KOLHOU op syfer 3\n\n 
  \n\n&nbsp\;\n\n&nbsp\;\n\n&nbsp\;
CATEGORIES:event,Fundraiser
END:VEVENT
BEGIN:VTIMEZONE
TZID:Africa/Johannesburg
X-LIC-LOCATION:Africa/Johannesburg
BEGIN:STANDARD
DTSTART:20180301T100000
TZOFFSETFROM:+0200
TZOFFSETTO:+0200
TZNAME:SAST
END:STANDARD
END:VTIMEZONE
END:VCALENDAR