
BEGIN:VCALENDAR
VERSION:2.0
PRODID:-//wp-events-plugin.com//6.4.7.1//EN
TZID:Africa/Johannesburg
X-WR-TIMEZONE:Africa/Johannesburg
BEGIN:VEVENT
UID:77@rustenburg.biz
DTSTART;TZID=Africa/Johannesburg;VALUE=DATE:20190803
DTEND;TZID=Africa/Johannesburg;VALUE=DATE:20190804
DTSTAMP:20190624T114741Z
URL:https://www.rustenburg.biz/legacy-events/groot-marico-mtb-race/
SUMMARY:Groot Marico MTB Race
DESCRIPTION:\n\nWHEN - 3 August 2019\nWHERE - Bosman Terrain\, Groot Marico
 \, North West\nTIME - 08h30\n\nHosted &amp\; organized by Groot Marico and
  the Rustenburg Rotary Club\nas a fundraiser for the Thusanang Creche in G
 root Marico\n\nCategories &amp\; Fees:\n\n 	60km &amp\; 50km @ R180\n 	40k
 m &amp\; 20km @ R120\n 	5km @ R50\n 	Children under 12 free for the 5km\n\
 nYou can book online on the Rustenburg Rotary Club website.\n\nContact Chr
 isto - 082 856 1673 / Ronnie - 082 655 4053\nAccommodation - Santa - 083 2
 72 2958\nEmail - info@rustenburgrotaryclub.co.za\n\n
CATEGORIES:event,Fundraiser
END:VEVENT
BEGIN:VTIMEZONE
TZID:Africa/Johannesburg
X-LIC-LOCATION:Africa/Johannesburg
BEGIN:STANDARD
DTSTART:20180803T000000
TZOFFSETFROM:+0200
TZOFFSETTO:+0200
TZNAME:SAST
END:STANDARD
END:VTIMEZONE
END:VCALENDAR