
BEGIN:VCALENDAR
VERSION:2.0
PRODID:-//wp-events-plugin.com//6.4.7.1//EN
TZID:Africa/Johannesburg
X-WR-TIMEZONE:Africa/Johannesburg
BEGIN:VEVENT
UID:72@rustenburg.biz
DTSTART;TZID=Africa/Johannesburg;VALUE=DATE:20190601
DTEND;TZID=Africa/Johannesburg;VALUE=DATE:20190602
DTSTAMP:20190418T094010Z
URL:https://www.rustenburg.biz/legacy-events/groot-marico-safari-karnaval/
SUMMARY:Groot-Marico Safari Karnaval
DESCRIPTION:\n\nGROOT-MARICO SAFARI KARNAVAL\n\nWAAR - NG Kerk\, Groot Mari
 co\, N4 Platinum Hoofweg\nWANNEER - 1 Junie 2019\nINGANGS FOOI - R20 per m
 otor\n\nKontak besonderhede::\n\n 	Ds. Stephan Botha - 083 743 0507\n 	gsb
 otha@absamail.co.za\n 	Gaan loer gerus op ons Webblad vir meer inligting\n
 \nWelkom by die Groot Marico Safari Karnaval!\nGroot Marico Safari Karnava
 l is 'n jaarlikse fees vir oud en jonk\n\nVEILING 12 UUR:\n\n 	Verskeidenh
 eid Jagpakette\n 	Soliede Hout Meubels\n 	Kosbaarhede uit die Antieke Mari
 co\n\nVERMAAK:\n\n 	Adam Tas &amp\; Kosie Beukes Orkes\n 	Genoeg vermaak v
 ir oud en jonk\n 	Hope pret vie die kinders vir die hele dag\n\nHEERLIKE K
 OS &amp\; STALLETJIES:\n\n 	Kultuurstal met Marico Plaas - en spensprodukt
 e\n 	Heerlike tradisionele kos stalletjies\, naaldwerk &amp\; kwekery\n\nP
 LAAS SLAGHUIS:\n\n 	Vakuumprodukte kwaliteit beessnitte &amp\; wors\n 	Wil
 dsvleis produkte\, wildsbiltong &amp\; salami\n\nKOMPITISIE:\n\n 	Koop jou
  kaartjie teen R100 elk\n 	Kaartjies reeds beskikbaar en ook te koop by di
 e karnaval\n 	Die trekking vind plaas om 15h00 by die Karnaval\n\nPRYSE OP
  DIE SPEL:\n\n 	Linhai Rustler 300 4Wheeler\n 	Naweek vir 4 by Marico Rive
 r Game Lodge\n\n&nbsp\;
CATEGORIES:event,Groot Marico Safari Karnaval
END:VEVENT
BEGIN:VTIMEZONE
TZID:Africa/Johannesburg
X-LIC-LOCATION:Africa/Johannesburg
BEGIN:STANDARD
DTSTART:20180601T000000
TZOFFSETFROM:+0200
TZOFFSETTO:+0200
TZNAME:SAST
END:STANDARD
END:VTIMEZONE
END:VCALENDAR