
BEGIN:VCALENDAR
VERSION:2.0
PRODID:-//wp-events-plugin.com//6.4.7.1//EN
TZID:Africa/Johannesburg
X-WR-TIMEZONE:Africa/Johannesburg
BEGIN:VEVENT
UID:68@rustenburg.biz
DTSTART;TZID=Africa/Johannesburg:20190330T090000
DTEND;TZID=Africa/Johannesburg:20190330T140000
DTSTAMP:20190307T092651Z
URL:https://www.rustenburg.biz/legacy-events/herfs-mark-2019/
SUMMARY:Herfs Mark 2019
DESCRIPTION:\n\nKOM GENIET DIE DAG SAAM MET ONS!!\n\nWANNEER - 30 Maart 201
 9\nWAAR - Little Eden Venue\, Elandstraat 1B\, Brits\nTYD - 09h00 tot 14h0
 0\nVir Navrae: Kontak - Alta 082 921 3649 / Rina - 079 558 4439\nE-pos - 
 rinajacobs80@gmail.com\n\nHope pret vir oud en jonk:\n\n 	Kos Stalletjies\
 n 	Lekkergoed winkel\n 	Springkastele\n 	Musiek\n 	Dansgroepe gaan optree\
 n 	Kontant kroeg\n 	GRATIS INGANG \n\n\n\n&nbsp\;\n\n&nbsp\;\n\n&nbsp\;
CATEGORIES:event
END:VEVENT
BEGIN:VTIMEZONE
TZID:Africa/Johannesburg
X-LIC-LOCATION:Africa/Johannesburg
BEGIN:STANDARD
DTSTART:20180330T090000
TZOFFSETFROM:+0200
TZOFFSETTO:+0200
TZNAME:SAST
END:STANDARD
END:VTIMEZONE
END:VCALENDAR