
BEGIN:VCALENDAR
VERSION:2.0
PRODID:-//wp-events-plugin.com//6.4.7.1//EN
TZID:Africa/Johannesburg
X-WR-TIMEZONE:Africa/Johannesburg
BEGIN:VEVENT
UID:63@rustenburg.biz
DTSTART;TZID=Africa/Johannesburg:20190302T080000
DTEND;TZID=Africa/Johannesburg:20190302T170000
DTSTAMP:20190124T135305Z
URL:https://www.rustenburg.biz/legacy-events/ice-cream-festival-hunters-re
 st/
SUMMARY:Ice Cream Festival @ Hunter's Rest
DESCRIPTION:\n\nIN TOUCH THERAPY PRESENTS.....THE ICE CREAM FESTIVAL 2019\n
 FUNDRAISER FOR A HORSE TRAILER FOR IN TOUCH THERAPY \n\nWHERE - Hunter's 
 Rest\nWHEN - 2 March 2019\nCOSTS - R60 per adult &amp\; R30 for children 
 under 13\nContact - Karen 084 422 2377 / karenspies@telkomsa.net\nJoin us 
 on Facebook\n\n 	Stands available with electricity - R700\n 	Stands availa
 ble without electricity - R500\n 	Entertainment include - Dancers / Music 
 / Competitions / Horse Riding\n 	Highlight of the event - Mr &amp\; Miss I
 ce Cream Festival ( Age Groups )\n\n\n\nOUR STORY:\n\nChildren require var
 ied developmental tools to best suit their unique needs. Through the rhyth
 mic movement of horses\, therapeutic intervention is provided for many chi
 ldren with a myriad of special needs. A child riding the horse receives co
 nstant sensory input including vestibular\, proprioceptive\, tactile\, aud
 itory\, olfactory and visual. The vestibular system that controls balance 
 and equilibrium is stimulated because the child is on a dynamic surface. T
 he Vestibular system is located in the inner ear. It responds to movement 
 and gravity and is therefore involved with our sense of balance\, coordina
 tion and eye movements. The therapist enhances this input by having the ch
 ild change the position of his/her head. Changing positions causes movemen
 t in the semi-circular canals\, the part of the body that affects balance.
  By stimulating this area\, the child’s ability to process vestibular in
 put can improve. Proprioception is the body’s ability to process heavine
 ss\, location and resistance of objects in relation to the body. It affect
 s posture\, movement and the ability to process changes in equilibrium. Th
 e body receives proprioceptive input when the nerve endings in the muscles
  are stimulated\, which happens when a part of the body is touched or move
 d\, even by gravity. For example\, typically functioning proprioceptive sy
 stems allow a person to close his eyes and still know where his arm ends. 
 When a child rides a horse\, the lower extremities receive proprioceptive 
 input from touching the horse. When you add movement\, the entire body rec
 eives this input. The therapist can also enhance this input by having the 
 child change positions on the horse\, having more or less of the body touc
 hing the horse. Both of these systems\, along with the tactile system\, wo
 rk closely together and are all stimulated when a child is simply trying t
 o maintain balance on the horse. The touch\, sights\, sounds and smells of
  the horse and the farm contribute to stimulating other sensory systems. D
 uring therapy\, most of these systems are stimulated. Self confidence is g
 ained through socializing with the horses and self worth are promoted.\n\n
 SO IETSIE EKSTRA INFORMASIE VAN KAREN AF \n\nGoeie dag Mede Rustenburgers
 \,\n\n 	Ons hou die 2de Maart 2019 van 8 uur tot 17h00 ‘n heerlike Roomy
 sfees by Hunters Rest.\n 	Enige skool\, kerk\, organisasie\, groep\, indiv
 idue kan ‘n stalletjie bespreek en ‘n bietjie geld maak die dag.\n 	Di
 e toegangsfooi by die hek en staanplek se fooi gaan ten bate van In Touch 
 Therapy vir ‘n perde sleepwa.\n 	In Touch Therapy reik uit na almal wat 
 emosioneel of fisies ‘n uitdaging het. Ons probeer dan ook die wat dit n
 ie kan bekostig nie\, gratis help.\n 	Ons besoek Spes Bona ook om die gest
 remdes ‘n kansie te gee om die tipe van terapie te ervaar.\n 	Ons wil gr
 aag stalletjies daar hê met soveel verskillende soorte roomys as wat moon
 tlik kan!\n 	Klasse kan teen mekaar ‘n uitdaging rig\, of verskillende g
 rade\, besighede\, die onderwysers\, ens. ‘n Gesonde geleentheid met ges
 onde vermaak!\n\n\n\n&nbsp\;\n\n&nbsp\;
CATEGORIES:event,Festivals
END:VEVENT
BEGIN:VTIMEZONE
TZID:Africa/Johannesburg
X-LIC-LOCATION:Africa/Johannesburg
BEGIN:STANDARD
DTSTART:20180302T080000
TZOFFSETFROM:+0200
TZOFFSETTO:+0200
TZNAME:SAST
END:STANDARD
END:VTIMEZONE
END:VCALENDAR