
BEGIN:VCALENDAR
VERSION:2.0
PRODID:-//wp-events-plugin.com//6.4.7.1//EN
TZID:Africa/Johannesburg
X-WR-TIMEZONE:Africa/Johannesburg
BEGIN:VEVENT
UID:76@rustenburg.biz
DTSTART;TZID=Africa/Johannesburg:20190624T070000
DTEND;TZID=Africa/Johannesburg:20190628T130000
DTSTAMP:20190607T135029Z
URL:https://www.rustenburg.biz/legacy-events/kinderweek/
SUMMARY:Kinderweek
DESCRIPTION:[caption id="attachment_37364" align="alignnone" width="640"] k
 inderweek[/caption]\n\nKINDERWEEK.....THE GRINCH ( My Hart behoort aan JES
 US ) \n\nWAAR - Laerskool Rustenburg\nWANNEER - 24 tot 28 Junie 2019\nTYD
  - 07hoo tot 13hoo\nINGANG - GRATIS \n\nKontak 014 594 1029 of zeldamassy
 n@thevohf.com vir meer inligting/inskrywing\n\n\n\nHierdie jaar se kinderw
 eek bied baie aktiwiteite en groot pret \n\n 	Sing en spring\n 	Poppekas\
 n 	Kuns\n 	Sport\n 	Erich Posthumus kom kuier sowel as Living Ball\n 	Kind
 ers ontvang ook kos - Alles Gratis.\n 	Stuur 'n e-pos vir 'n inskrywing of
  kom registreer die dag van aankoms\n\nONS SIEN UIT DAARNA OM JULLE DAAR T
 E SIEN!!!!\n\n\n\n&nbsp\;\n\n&nbsp\;\n\n&nbsp\;
CATEGORIES:event,Holiday Program
END:VEVENT
BEGIN:VTIMEZONE
TZID:Africa/Johannesburg
X-LIC-LOCATION:Africa/Johannesburg
BEGIN:STANDARD
DTSTART:20180624T070000
TZOFFSETFROM:+0200
TZOFFSETTO:+0200
TZNAME:SAST
END:STANDARD
END:VTIMEZONE
END:VCALENDAR