
BEGIN:VCALENDAR
VERSION:2.0
PRODID:-//wp-events-plugin.com//6.4.7.1//EN
TZID:Africa/Johannesburg
X-WR-TIMEZONE:Africa/Johannesburg
BEGIN:VEVENT
UID:54@rustenburg.biz
DTSTART;TZID=Africa/Johannesburg:20180929T090000
DTEND;TZID=Africa/Johannesburg:20180929T233000
DTSTAMP:20180925T135200Z
URL:https://www.rustenburg.biz/legacy-events/klein-hoewe-kleuterskool-fami
 liefees/
SUMMARY:Familie Fees @ Klein Hoewe Kleuterskool
DESCRIPTION:\n\nKLEIN HOEWE KLEUTERSKOOL BIED AAN..... FAMILIE FEES!!!\n\nW
 AAR - Klein Hoewe Kleuterskool ( R24pad\, 2de sirkel vanaf Mall\, links )\
 nWANNEER - 29 September 2018\nTYD - Vanaf 09hoo tot laat\nKOSTES - R100 p/
 p - Kaartjies by die hek beskikbaar / Kan voor die tyd by skool gekoop wor
 d\n\nBy die familie fees bied ons 'n groot verskeidenheid vermaak:\n\n 	St
 alletjies\n 	Speel Area\n 	Biertuin\n 	Pom Poms\n 	Skole Koor\n 	GROOT Kun
 stenaars\n 	Mnr &amp\; Mej Klein Hoewe\n\nKom geniet ook die vermaak saam 
 met ons kunstenaars:\n\n 	Bella Q &amp\; Ryno Labuschagne\n 	Ruan Josh - V
 anaf 19h00\n\nMOENIE hierdie onvergeetlike lekker dag saam met ons misloop
  nie.\nSkakel 087 135 1056 vir verdere navrae\n\n&nbsp\;\n\n&nbsp\;
CATEGORIES:event
END:VEVENT
BEGIN:VTIMEZONE
TZID:Africa/Johannesburg
X-LIC-LOCATION:Africa/Johannesburg
BEGIN:STANDARD
DTSTART:20170929T090000
TZOFFSETFROM:+0200
TZOFFSETTO:+0200
TZNAME:SAST
END:STANDARD
END:VTIMEZONE
END:VCALENDAR