
BEGIN:VCALENDAR
VERSION:2.0
PRODID:-//wp-events-plugin.com//6.4.7.1//EN
TZID:Africa/Johannesburg
X-WR-TIMEZONE:Africa/Johannesburg
BEGIN:VEVENT
UID:44@rustenburg.biz
DTSTART;TZID=Africa/Johannesburg:20180901T170000
DTEND;TZID=Africa/Johannesburg:20180901T233000
DTSTAMP:20180718T071103Z
URL:https://www.rustenburg.biz/legacy-events/kroondaler-karneval/
SUMMARY:Kroondaler Karneval
DESCRIPTION:\n\nTHE KROONDALER KARNEVAL ( GERMAN BEERFEST ) \n\nWHEN - 1 S
 eptember 2018\nWHERE - Behind Spar in Kroondal\nTIME - 17h00 till 24:00\nC
 OSTS - R230 p/person ( Includes a R80 meal voucher for dinner and a beer m
 ug\n\n 	Tickets must be purchase in advance.\n 	Everyone 18 and older is w
 elcome.\n 	You don't stay in Kroondal/Rustenburg area?  Do not fear!  Yo
 u can still buy your tickets NOW\, by calling Carmen\n\nFor more info and 
 tickets - Carmen - 083 305 3874 / volker@vvd.co.za
CATEGORIES:event
END:VEVENT
BEGIN:VTIMEZONE
TZID:Africa/Johannesburg
X-LIC-LOCATION:Africa/Johannesburg
BEGIN:STANDARD
DTSTART:20170901T170000
TZOFFSETFROM:+0200
TZOFFSETTO:+0200
TZNAME:SAST
END:STANDARD
END:VTIMEZONE
END:VCALENDAR