
BEGIN:VCALENDAR
VERSION:2.0
PRODID:-//wp-events-plugin.com//6.4.7.1//EN
TZID:Africa/Johannesburg
X-WR-TIMEZONE:Africa/Johannesburg
BEGIN:VEVENT
UID:226@rustenburg.biz
DTSTART;TZID=Africa/Johannesburg:20260515T190000
DTEND;TZID=Africa/Johannesburg:20260516T220000
DTSTAMP:20260305T125903Z
URL:https://www.rustenburg.biz/legacy-events/ng-kerk-proteapark-presents-z
 oid-psalm/
SUMMARY:NG Kerk Proteapark... presents Zoid Psalm
DESCRIPTION:\nZoid Psalm: A New Musical Journey\n\nWHERE - NG Kerk Proteapa
 rk ( 25 Witstinkhout Avenue\, Proteapark )\nWHEN - 15 &amp\; 16 May 2026 a
 t 19h00 ( Gates open at 17h00 )\nShows starts 19h00 and is 190 minutes lon
 g ( With a 20 minute break )\nFood &amp\; drinks will be sold before and d
 uring the break\nPrices differs from R50 - R350\n\nE-mail: mvantonder718@g
 mail.com\nContact nrs - 014 533 4028 / 071 687 7242\n\nExperience a ground
 breaking fusion of sacred and modern sounds in Zoid Psalm at NG Proteapark
 .\nImmerse yourself in the powerful blend of an iconic church organ and th
 e electrifying energy of Karen Zoid’s rock guitars.\nThis one-of-a-kind 
 performance is a unique exploration of old-world instrumentation and conte
 mporary music\,\ncreating a spiritual and sonic experience like no other\n
 \nThe show starts at 19h00 and the run time is approximately 190 minutes w
 ith an intermission.\nDrinks and something to eat will be on sale before a
 nd after the show as well as during the intermission.\n\nBook your tickets
  now to witness this extraordinary musical journey.\nTickets are available
  on Quicket\n\nBook your tickets here for 15 May\nBook your tickets here f
 or 16 May\n&nbsp\;
ATTACH;FMTTYPE=image/jpeg:https://www.rustenburg.biz/wp-content/uploads/20
 26/03/IMG-20260304-WA0329-e1772714200367.jpg
CATEGORIES:event,Konsert,Live Shows
END:VEVENT
BEGIN:VTIMEZONE
TZID:Africa/Johannesburg
X-LIC-LOCATION:Africa/Johannesburg
BEGIN:STANDARD
DTSTART:20250515T190000
TZOFFSETFROM:+0200
TZOFFSETTO:+0200
TZNAME:SAST
END:STANDARD
END:VTIMEZONE
END:VCALENDAR