
BEGIN:VCALENDAR
VERSION:2.0
PRODID:-//wp-events-plugin.com//6.4.7.1//EN
TZID:Africa/Johannesburg
X-WR-TIMEZONE:Africa/Johannesburg
BEGIN:VEVENT
UID:46@rustenburg.biz
DTSTART;TZID=Africa/Johannesburg;VALUE=DATE:20180907
DTEND;TZID=Africa/Johannesburg;VALUE=DATE:20180909
DTSTAMP:20180724T132106Z
URL:https://www.rustenburg.biz/legacy-events/piekfijn-food-and-wine-festiv
 al/
SUMMARY:Piekfijn #5 ( Rocco de Villiers & Potjie Competition )
DESCRIPTION:\n\nPIEKFIJN #5\n\nWHEN - 8 September 2018\nWHERE - Bergsig Aca
 demy\, Bovenstreet\, Rustenburg\n\n 	Wine tasting\n 	Craft Beer\n 	Kidzone
 \n 	Amazing Race\n 	Food &amp\; Craft stalls\n 	Rugby Lounge\n 	Mobile Put
 t-Putt\n\nAdult with wine tasting - R140 p/p\nAdult excluding wine tasting
  - R120 p/p\nChildren 12 - 17 - R50 p/p\nChildren under 12 - FREE\n\n&nbsp
 \;\n\n\n\n\n\nROCCO DE VILLIERS @ PIEKFIJN #\n\nWHEN - 7 September 2018\nC
 OSTS - R150 per person\nTICKETS AVAILABLE @ 260 Beyers Naude Drive Rustenb
 urg &amp\; ticketpro\n\n 	Secret Valley Advernture Zone\n 	Volleyball\n 	E
 nter our Potjie Competition\n 	Binnelanders\n\nContact  - 082 994 7315 / 
 events@greycorporate.co.za\nEnter here for the Potjie Competition\n\n\n\n&
 nbsp\;\n\n&nbsp\;\n\n&nbsp\;\n\n&nbsp\;\n\n&nbsp\;
CATEGORIES:event
END:VEVENT
BEGIN:VTIMEZONE
TZID:Africa/Johannesburg
X-LIC-LOCATION:Africa/Johannesburg
BEGIN:STANDARD
DTSTART:20170907T000000
TZOFFSETFROM:+0200
TZOFFSETTO:+0200
TZNAME:SAST
END:STANDARD
END:VTIMEZONE
END:VCALENDAR