
BEGIN:VCALENDAR
VERSION:2.0
PRODID:-//wp-events-plugin.com//6.4.7.1//EN
TZID:Africa/Johannesburg
X-WR-TIMEZONE:Africa/Johannesburg
BEGIN:VEVENT
UID:74@rustenburg.biz
DTSTART;TZID=Africa/Johannesburg:20190526T090000
DTEND;TZID=Africa/Johannesburg:20190526T160000
DTSTAMP:20190509T145431Z
URL:https://www.rustenburg.biz/legacy-events/rainhill-mark/
SUMMARY:Rainhill Mark
DESCRIPTION:\n\nBRING DIE HELE FAMILIE EN KOM GENIET DIE DAG SAAM MET ONS\n
 \nWANNEER - 26 Mei 2019\nWAAR - Rainhill Plaas\, Donderhoek Pad\, Rustenbu
 rg\nTYD - 09hoo tot 16h00\nINGANG - R20 per persoon / Kinders onder 12 - R
 10 / Pensionarisse - Gratis\n\nOns bied GROOT en LEKKER vermaak vir oud en
  jonk\n\n 	Die Wakkertrap Orkes\n 	Stalletjies\n 	Voedsel Hof\n 	Bier Tuin
 \n 	Mini Putt-Putt\n 	Kinder Speel Plek\n\nKontak - 072 601 7853 vir meer 
 besonderhede / rainhillmarket@gmail.com\nGaan 'like' ons Facebook blad\n
 \n&nbsp\;\n\n&nbsp\;
CATEGORIES:event,Market
END:VEVENT
BEGIN:VTIMEZONE
TZID:Africa/Johannesburg
X-LIC-LOCATION:Africa/Johannesburg
BEGIN:STANDARD
DTSTART:20180526T090000
TZOFFSETFROM:+0200
TZOFFSETTO:+0200
TZNAME:SAST
END:STANDARD
END:VTIMEZONE
END:VCALENDAR