
BEGIN:VCALENDAR
VERSION:2.0
PRODID:-//wp-events-plugin.com//6.4.7.1//EN
TZID:Africa/Johannesburg
X-WR-TIMEZONE:Africa/Johannesburg
BEGIN:VEVENT
UID:65@rustenburg.biz
DTSTART;TZID=Africa/Johannesburg;VALUE=DATE:20190427
DTEND;TZID=Africa/Johannesburg;VALUE=DATE:20190428
DTSTAMP:20190130T135205Z
URL:https://www.rustenburg.biz/legacy-events/rugby-fun-day-for-jaco-fourie
 /
SUMMARY:Rugby Fun Day for Jaco Fourie
DESCRIPTION:\n\nRUGBY FUN DAY FOR JACO FOURIE\n\nWHEN - 27 April 2019\nWHER
 E - Impala Rugby Club\, Rustenburg\nENTREE FEE - R20 p/p\n\nTo enter your 
 teams\, contact Naas - 082 926 8403\nFor a stall\, contact Lisa - 071 131 
 4724\n\nA whole day packed with lots of fun\n\n 	Rugby\n 	Entertainment\n 
 	Food\n 	Stalls\n\nTEAMS: ( R40 p/p ) \n\n 	7's\n 	Touches\n 	Bulletjie\n
  	Old Boys\n 	Girls / Lady's\n\n\n\n&nbsp\;\n\n&nbsp\;
CATEGORIES:Charity,event
END:VEVENT
BEGIN:VTIMEZONE
TZID:Africa/Johannesburg
X-LIC-LOCATION:Africa/Johannesburg
BEGIN:STANDARD
DTSTART:20180427T000000
TZOFFSETFROM:+0200
TZOFFSETTO:+0200
TZNAME:SAST
END:STANDARD
END:VTIMEZONE
END:VCALENDAR