
BEGIN:VCALENDAR
VERSION:2.0
PRODID:-//wp-events-plugin.com//6.4.7.1//EN
TZID:Africa/Johannesburg
X-WR-TIMEZONE:Africa/Johannesburg
BEGIN:VEVENT
UID:37@rustenburg.biz
DTSTART;TZID=Africa/Johannesburg;VALUE=DATE:20180804
DTEND;TZID=Africa/Johannesburg;VALUE=DATE:20180805
DTSTAMP:20180703T133504Z
URL:https://www.rustenburg.biz/legacy-events/rustenburg-rotary-groot-maric
 o-mtb-race/
SUMMARY:Rustenburg Rotary Groot Marico MTB Race
DESCRIPTION:Rustenburg Rotary Groot Marico MTB Race\n\n\nRustenburg Rotary 
 Groot Marico MTB Race\nDATE - 4 August 2018\nTIME - 08h30\nVENUE - Bosman 
 Terrein\, Groot Marico\, NW Province\nDISTANCES - 60km &amp\; 50km @ R180 
 / 40km &amp\; 20km @ R120 / 5km @ R50 ( Children under 12 free for the 5km
  )\n\n 	Registration www.entrytime.com or on site from 07h00\n 	Contact De
 tails - Christo Pretorius 082 856 1673 / Ronnie Schild 082 635 4053\n 	Acc
 ommodation &amp\; Venue info - Santa van Bart 083 272 2958\n 	Join us on F
 acebook \n
CATEGORIES:event
END:VEVENT
BEGIN:VTIMEZONE
TZID:Africa/Johannesburg
X-LIC-LOCATION:Africa/Johannesburg
BEGIN:STANDARD
DTSTART:20170804T000000
TZOFFSETFROM:+0200
TZOFFSETTO:+0200
TZNAME:SAST
END:STANDARD
END:VTIMEZONE
END:VCALENDAR