
BEGIN:VCALENDAR
VERSION:2.0
PRODID:-//wp-events-plugin.com//6.4.7.1//EN
TZID:Africa/Johannesburg
X-WR-TIMEZONE:Africa/Johannesburg
BEGIN:VEVENT
UID:48@rustenburg.biz
DTSTART;TZID=Africa/Johannesburg;VALUE=DATE:20180806
DTEND;TZID=Africa/Johannesburg;VALUE=DATE:20181207
DTSTAMP:20180824T131955Z
URL:https://www.rustenburg.biz/legacy-events/sandra-smit-counseling/
SUMMARY:Sandra Smit - Counselor Services
DESCRIPTION:\n\nSANDRA SMIT - SPECIALIST COUNSELOR \n\nContact Sandra for 
 an appointment - 082 342 4952\nEmail - sandrajaco@vodamail.co.za\n\nHEAL
 \, HOPE &amp\; HAPPINESS\nSandra Smit offers the following services:\n\n 	
 Services Rendered:\n08:00-19h00 Monday till Thursday\n08:00-12h00 Friday
 ’s\nSaturday and Sunday – Emergencies\n 	Children are welcome\, there 
 is a babysitter available.\n 	Rates subject by the CCSA and appointments a
 re quickly handled.\n\nAssistance in areas of:\n1.) Private and Corporate 
 Group and single Trauma therapy.\n\n2.) All Trauma related:\n\n 	Post Trau
 matic Stress Disorder\n 	Depression\n 	Panic attacks\n 	Armed robbery\n 	H
 i-jack\n 	House robbery\n 	Death of a love one/complicated grief\n 	Sexual
  and/or physical abuse/assaults\n 	Motor vehicle accidents\n 	Combat Veter
 an experiences\n 	Divorce\n 	Suicidal\n 	Marriage – Relationships\n\n3.)
  Emotional/Physical healing therapy.\nDefinition of counselling\nMake room
  for new hot experiences\, techniques and love in your life and get rid of
  the cold in you.\n\n&nbsp\;\n\n&nbsp\;
CATEGORIES:Counseling
END:VEVENT
BEGIN:VTIMEZONE
TZID:Africa/Johannesburg
X-LIC-LOCATION:Africa/Johannesburg
BEGIN:STANDARD
DTSTART:20170806T000000
TZOFFSETFROM:+0200
TZOFFSETTO:+0200
TZNAME:SAST
END:STANDARD
END:VTIMEZONE
END:VCALENDAR