
BEGIN:VCALENDAR
VERSION:2.0
PRODID:-//wp-events-plugin.com//6.4.7.1//EN
TZID:Africa/Johannesburg
X-WR-TIMEZONE:Africa/Johannesburg
BEGIN:VEVENT
UID:66@rustenburg.biz
DTSTART;TZID=Africa/Johannesburg:20190214T180000
DTEND;TZID=Africa/Johannesburg:20190214T230000
DTSTAMP:20190212T082332Z
URL:https://www.rustenburg.biz/legacy-events/say-it-with-dinner-this-valen
 tines-day/
SUMMARY:Say it with dinner this Valentine's Day
DESCRIPTION:\n\nSAY IT WITH DINNER @ CHEEKY RATBAGS THIS VALENTINE'S DAY\n\
 nWHEN - 14 February 2019\nWHERE -  Oorsak Road\, 11km out of Rustenburg\n
 TIME - 18h00\nCOSTS - R500 per couple\nFREE Bottle of Champaign or Wine\nB
 OOKINGS - 082 442 9561\n\nThe evening includes:\n\nSTARTERS:\n\n 	Chicken 
 filled Curry pancake ( Mild )\n\nMAIN:\n\n 	Fillet Steak\n 	Roasted Potato
 es\n 	Crispy battered green beans\n 	Vegetable Quiche\n\nDESERT:\n\n 	Ital
 ian Delight - Thin pastry with Belgian Chocolate / Ice Cream with strawber
 ry coulis\n\nTHE KID FREE OPTION:\nWe will entertain them while you enjoy 
 your evening!\n\n 	R120 per child\n 	Includes - Pizza + Cool drink + Popco
 rn + Movie + Kid Care\n\n\n\n&nbsp\;\n\n&nbsp\;\n\n&nbsp\;
CATEGORIES:event
END:VEVENT
BEGIN:VTIMEZONE
TZID:Africa/Johannesburg
X-LIC-LOCATION:Africa/Johannesburg
BEGIN:STANDARD
DTSTART:20180214T180000
TZOFFSETFROM:+0200
TZOFFSETTO:+0200
TZNAME:SAST
END:STANDARD
END:VTIMEZONE
END:VCALENDAR