
BEGIN:VCALENDAR
VERSION:2.0
PRODID:-//wp-events-plugin.com//6.4.7.1//EN
TZID:Africa/Johannesburg
X-WR-TIMEZONE:Africa/Johannesburg
BEGIN:VEVENT
UID:62@rustenburg.biz
DTSTART;TZID=Africa/Johannesburg;VALUE=DATE:20190202
DTEND;TZID=Africa/Johannesburg;VALUE=DATE:20190203
DTSTAMP:20190123T110246Z
URL:https://www.rustenburg.biz/legacy-events/straatligkinders-buffalo-gril
 l/
SUMMARY:Straatligkinders @ Buffalo Grill
DESCRIPTION:\n\nSTRAATLIGKINDERS LIVE @ BUFFALO GRILL\n\nWHEN - 2 February 
 2019\nTICKETS - R150 Standard tickets / R220 VIP Tickets ( Meet the Band )
 \nE-mail - marketing@buffalogrill.co.za\nCell - 076 756 9120\n\n 	Food &am
 p\; drinks available at Vendor\n 	ID / Drivers license required for alcoho
 l purchases\n 	Performance by Local Artists\n\n\n\n 	Hein Kruger / Ruan Kr
 uger / Bouwer Bosch / Bennie De Jager\n 	Don's miss out - Get your tickets
  TODAY\n\n\n\n&nbsp\;
CATEGORIES:event
END:VEVENT
BEGIN:VTIMEZONE
TZID:Africa/Johannesburg
X-LIC-LOCATION:Africa/Johannesburg
BEGIN:STANDARD
DTSTART:20180202T000000
TZOFFSETFROM:+0200
TZOFFSETTO:+0200
TZNAME:SAST
END:STANDARD
END:VTIMEZONE
END:VCALENDAR