
BEGIN:VCALENDAR
VERSION:2.0
PRODID:-//wp-events-plugin.com//6.4.7.1//EN
TZID:Africa/Johannesburg
X-WR-TIMEZONE:Africa/Johannesburg
BEGIN:VEVENT
UID:57@rustenburg.biz
DTSTART;TZID=Africa/Johannesburg;VALUE=DATE:20181101
DTEND;TZID=Africa/Johannesburg;VALUE=DATE:20181106
DTSTAMP:20180926T143331Z
URL:https://www.rustenburg.biz/legacy-events/the-cape-town-experience/
SUMMARY:The Cape Town Experience
DESCRIPTION:\n\nCOME AND EXPERIENCE CAPE TOWN WITH US \n\n 	WHEN: 1 - 5 No
 vember 2018\n 	DEPARTURE: From Rustenburg\n 	COSTS - R5500 per person ( Be
 d &amp\; Breakfast and Transport included )\n\nWe are going to visit/activ
 ities:\n\n 	Table Mountian\n 	Robben ISland\n 	Aqurium V&amp\;A Waterfront
 \n 	Boat Cruising and much more\n\nPlease contact: 065 802 8885 / 076 498 
 2550 / 060 342 1950 for more info\nEMAIL: lemzap88@gmail.com\n\n&nbsp\;
CATEGORIES:event
END:VEVENT
BEGIN:VTIMEZONE
TZID:Africa/Johannesburg
X-LIC-LOCATION:Africa/Johannesburg
BEGIN:STANDARD
DTSTART:20171101T000000
TZOFFSETFROM:+0200
TZOFFSETTO:+0200
TZNAME:SAST
END:STANDARD
END:VTIMEZONE
END:VCALENDAR