
BEGIN:VCALENDAR
VERSION:2.0
PRODID:-//wp-events-plugin.com//6.4.7.1//EN
TZID:Africa/Johannesburg
X-WR-TIMEZONE:Africa/Johannesburg
BEGIN:VEVENT
UID:69@rustenburg.biz
DTSTART;TZID=Africa/Johannesburg:20190322T083000
DTEND;TZID=Africa/Johannesburg:20190322T160000
DTSTAMP:20190311T091506Z
URL:https://www.rustenburg.biz/legacy-events/up-your-entrepreneurial-skill
 s/
SUMMARY:Up Your Entrepreneurial Skills
DESCRIPTION:\n\n Black Cherrie Management Holdings Presents......\n\nUP YO
 UR ENTREPRENEURIAL SKILLS &amp\; INCREASE YOUR BOTTOM LINE\n\nWHEN - 22 Ma
 rch 2019\nWHERE - Protea Hotel Hunter's Rest\, Rustenburg\nTIME - 08:30 ti
 ll 16:00\nDress code - Business\nCosts - R150 ( Includes lunch &amp\; tea 
 breaks )\nEmail - info@blackcherrie.co.za\nCell number - 062 292 8167\n\n
 Limited seats available\, reserve your's today\nJoin our distinguished spe
 akers and challenge your thinking.\nGet fresh ideas\, hands-on tools plus 
 powerful insight and strategies   that will propel your business to new 
 heights.\n\n 	Host - Carol Hobbs ( North West FM )\n 	Palesa Kgatshe - ( S
 tandard Bank Manager\, Small &amp\; Medium enterprise for Rustenburg area 
 )\n 	Dineo Molokoane - ( Founder of Shedding Light )\n 	Hector Motivator -
  ( Motivational Speaker )\n 	Angel Selebano - ( Communications &amp\; awar
 eness @ Zadna )\n\nTOPICS TO BE COVERED INCLUDES:\n\n 	Trademarks &amp\; l
 egal agreements\n 	Tax Compliance\n 	Human Resources\n 	Transformation\n 	
 The importance of online presence\n 	Payment solutions\n 	Marketing\n 	Dig
 ital Solutions\n\n&nbsp\;\n\n&nbsp\;\n\n&nbsp\;
CATEGORIES:event
END:VEVENT
BEGIN:VTIMEZONE
TZID:Africa/Johannesburg
X-LIC-LOCATION:Africa/Johannesburg
BEGIN:STANDARD
DTSTART:20180322T083000
TZOFFSETFROM:+0200
TZOFFSETTO:+0200
TZNAME:SAST
END:STANDARD
END:VTIMEZONE
END:VCALENDAR